BEGIN:VCALENDAR
PRODID:-//SoulAndWolf//SilverStripe//EN
VERSION:2.0
BEGIN:VEVENT
DTSTART;TZID=Australia/Melbourne:20260328T100000
DTEND;TZID=Australia/Melbourne:20260328T120000
DESCRIPTION:https://www.woodards.com.au/property/5-232-barkly-street-st-kilda-3182-1875189/
SUMMARY:Auction at 5/232 Barkly Street
LOCATION:5/232 Barkly Street, St Kilda, VIC 3182
URL:https://www.woodards.com.au/property/5-232-barkly-street-st-kilda-3182-1875189/
END:VEVENT
END:VCALENDAR