BEGIN:VCALENDAR
PRODID:-//SoulAndWolf//SilverStripe//EN
VERSION:2.0
BEGIN:VEVENT
DTSTART;TZID=Australia/Melbourne:20260425T133000
DTEND;TZID=Australia/Melbourne:20260425T134500
DESCRIPTION:https://www.woodards.com.au/property/5-25-royal-avenue-glen-huntly-3163-1888313/
SUMMARY:Inspection at 5/25 Royal Avenue
LOCATION:5/25 Royal Avenue, Glen Huntly, VIC 3163
URL:https://www.woodards.com.au/property/5-25-royal-avenue-glen-huntly-3163-1888313/
END:VEVENT
END:VCALENDAR