BEGIN:VCALENDAR
PRODID:-//SoulAndWolf//SilverStripe//EN
VERSION:2.0
BEGIN:VEVENT
DTSTART;TZID=Australia/Melbourne:20260425T130000
DTEND;TZID=Australia/Melbourne:20260425T131500
DESCRIPTION:https://www.woodards.com.au/property/5-32-royal-avenue-glen-huntly-3163-1890662/
SUMMARY:Inspection at 5/32 Royal Avenue
LOCATION:5/32 Royal Avenue, Glen Huntly, VIC 3163
URL:https://www.woodards.com.au/property/5-32-royal-avenue-glen-huntly-3163-1890662/
END:VEVENT
END:VCALENDAR