BEGIN:VCALENDAR
PRODID:-//SoulAndWolf//SilverStripe//EN
VERSION:2.0
BEGIN:VEVENT
DTSTART;TZID=Australia/Melbourne:20260425T150000
DTEND;TZID=Australia/Melbourne:20260425T151500
DESCRIPTION:https://www.woodards.com.au/property/5-45-coorigil-road-carnegie-3163-1892287/
SUMMARY:Inspection at 5/45 Coorigil Road
LOCATION:5/45 Coorigil Road, Carnegie, VIC 3163
URL:https://www.woodards.com.au/property/5-45-coorigil-road-carnegie-3163-1892287/
END:VEVENT
END:VCALENDAR