BEGIN:VCALENDAR
PRODID:-//SoulAndWolf//SilverStripe//EN
VERSION:2.0
BEGIN:VEVENT
DTSTART;TZID=Australia/Melbourne:20250505T123000
DTEND;TZID=Australia/Melbourne:20250505T143000
DESCRIPTION:https://www.woodards.com.au/property/5-93-103-high-street-preston-3072-1639502/
SUMMARY:Auction at 5/93-103 High Street
LOCATION:5/93-103 High Street, Preston, VIC 3072
URL:https://www.woodards.com.au/property/5-93-103-high-street-preston-3072-1639502/
END:VEVENT
END:VCALENDAR