BEGIN:VCALENDAR
PRODID:-//SoulAndWolf//SilverStripe//EN
VERSION:2.0
BEGIN:VEVENT
DTSTART;TZID=Australia/Melbourne:20250906T133000
DTEND;TZID=Australia/Melbourne:20250906T153000
DESCRIPTION:https://www.woodards.com.au/property/5-elora-road-oakleigh-south-3167-1754713/
SUMMARY:Auction at 5 Elora Road
LOCATION:5 Elora Road, Oakleigh South, VIC 3167
URL:https://www.woodards.com.au/property/5-elora-road-oakleigh-south-3167-1754713/
END:VEVENT
END:VCALENDAR