BEGIN:VCALENDAR
PRODID:-//SoulAndWolf//SilverStripe//EN
VERSION:2.0
BEGIN:VEVENT
DTSTART;TZID=Australia/Melbourne:20260429T144500
DTEND;TZID=Australia/Melbourne:20260429T150000
DESCRIPTION:https://www.woodards.com.au/property/5-gedye-street-doncaster-east-3109-1892823/
SUMMARY:Inspection at 5 Gedye Street
LOCATION:5 Gedye Street, Doncaster East, VIC 3109
URL:https://www.woodards.com.au/property/5-gedye-street-doncaster-east-3109-1892823/
END:VEVENT
END:VCALENDAR