BEGIN:VCALENDAR
PRODID:-//SoulAndWolf//SilverStripe//EN
VERSION:2.0
BEGIN:VEVENT
DTSTART;TZID=Australia/Melbourne:20260425T130000
DTEND;TZID=Australia/Melbourne:20260425T133000
DESCRIPTION:https://www.woodards.com.au/property/5-jeffery-street-blackburn-3130-1885961/
SUMMARY:Inspection at 5 Jeffery Street
LOCATION:5 Jeffery Street, Blackburn, VIC 3130
URL:https://www.woodards.com.au/property/5-jeffery-street-blackburn-3130-1885961/
END:VEVENT
END:VCALENDAR