BEGIN:VCALENDAR
PRODID:-//SoulAndWolf//SilverStripe//EN
VERSION:2.0
BEGIN:VEVENT
DTSTART;TZID=Australia/Melbourne:20251206T100000
DTEND;TZID=Australia/Melbourne:20251206T120000
DESCRIPTION:https://www.woodards.com.au/property/504-1-bent-street-northcote-3070-1827269/
SUMMARY:Auction at 504/1 Bent Street
LOCATION:504/1 Bent Street, Northcote, VIC 3070
URL:https://www.woodards.com.au/property/504-1-bent-street-northcote-3070-1827269/
END:VEVENT
END:VCALENDAR