BEGIN:VCALENDAR
PRODID:-//SoulAndWolf//SilverStripe//EN
VERSION:2.0
BEGIN:VEVENT
DTSTART;TZID=Australia/Melbourne:20260502T150000
DTEND;TZID=Australia/Melbourne:20260502T170000
DESCRIPTION:https://www.woodards.com.au/property/506-1242-glen-huntly-road-carnegie-3163-1859134/
SUMMARY:Auction at 506/1242 Glen Huntly Road
LOCATION:506/1242 Glen Huntly Road, Carnegie, VIC 3163
URL:https://www.woodards.com.au/property/506-1242-glen-huntly-road-carnegie-3163-1859134/
END:VEVENT
END:VCALENDAR