BEGIN:VCALENDAR
PRODID:-//SoulAndWolf//SilverStripe//EN
VERSION:2.0
BEGIN:VEVENT
DTSTART;TZID=Australia/Melbourne:20260207T140000
DTEND;TZID=Australia/Melbourne:20260207T160000
DESCRIPTION:https://www.woodards.com.au/property/51-brett-street-murrumbeena-3163-1843519/
SUMMARY:Auction at 51 Brett Street
LOCATION:51 Brett Street, Murrumbeena, VIC 3163
URL:https://www.woodards.com.au/property/51-brett-street-murrumbeena-3163-1843519/
END:VEVENT
END:VCALENDAR