BEGIN:VCALENDAR
PRODID:-//SoulAndWolf//SilverStripe//EN
VERSION:2.0
BEGIN:VEVENT
DTSTART;TZID=Australia/Melbourne:20250626T130000
DTEND;TZID=Australia/Melbourne:20250626T150000
DESCRIPTION:https://www.woodards.com.au/property/517-arabin-street-keilor-3036-1705152/
SUMMARY:Auction at 5/17 Arabin Street
LOCATION:5/17 Arabin Street, Keilor, VIC 3036
URL:https://www.woodards.com.au/property/517-arabin-street-keilor-3036-1705152/
END:VEVENT
END:VCALENDAR