BEGIN:VCALENDAR
PRODID:-//SoulAndWolf//SilverStripe//EN
VERSION:2.0
BEGIN:VEVENT
DTSTART;TZID=Australia/Melbourne:20251025T120000
DTEND;TZID=Australia/Melbourne:20251025T140000
DESCRIPTION:https://www.woodards.com.au/property/52-gladwyn-avenue-bentleigh-east-3165-1809711/
SUMMARY:Auction at 52 Gladwyn Avenue
LOCATION:52 Gladwyn Avenue, Bentleigh East, VIC 3165
URL:https://www.woodards.com.au/property/52-gladwyn-avenue-bentleigh-east-3165-1809711/
END:VEVENT
END:VCALENDAR