BEGIN:VCALENDAR
PRODID:-//SoulAndWolf//SilverStripe//EN
VERSION:2.0
BEGIN:VEVENT
DTSTART;TZID=Australia/Melbourne:20260422T180000
DTEND;TZID=Australia/Melbourne:20260422T183000
DESCRIPTION:https://www.woodards.com.au/property/52-hayes-road-strathmore-3041-1887877/
SUMMARY:Inspection at 52 Hayes Road
LOCATION:52 Hayes Road, Strathmore, VIC 3041
URL:https://www.woodards.com.au/property/52-hayes-road-strathmore-3041-1887877/
END:VEVENT
END:VCALENDAR