BEGIN:VCALENDAR
PRODID:-//SoulAndWolf//SilverStripe//EN
VERSION:2.0
BEGIN:VEVENT
DTSTART;TZID=Australia/Melbourne:20250621T123000
DTEND;TZID=Australia/Melbourne:20250621T143000
DESCRIPTION:https://www.woodards.com.au/property/53-patterson-avenue-keilor-3036-1704883/
SUMMARY:Auction at 53 Patterson Avenue
LOCATION:53 Patterson Avenue, Keilor, VIC 3036
URL:https://www.woodards.com.au/property/53-patterson-avenue-keilor-3036-1704883/
END:VEVENT
END:VCALENDAR