BEGIN:VCALENDAR
PRODID:-//SoulAndWolf//SilverStripe//EN
VERSION:2.0
BEGIN:VEVENT
DTSTART;TZID=Australia/Melbourne:20260428T154500
DTEND;TZID=Australia/Melbourne:20260428T160000
DESCRIPTION:https://www.woodards.com.au/property/536-park-street-carlton-north-3054-1890205/
SUMMARY:Inspection at 536 Park Street
LOCATION:536 Park Street, Carlton North, VIC 3054
URL:https://www.woodards.com.au/property/536-park-street-carlton-north-3054-1890205/
END:VEVENT
END:VCALENDAR