BEGIN:VCALENDAR
PRODID:-//SoulAndWolf//SilverStripe//EN
VERSION:2.0
BEGIN:VEVENT
DTSTART;TZID=Australia/Melbourne:20230819T130000
DTEND;TZID=Australia/Melbourne:20230819T150000
DESCRIPTION:https://www.woodards.com.au/property/55-hickford-street-reservoir-3073-1407092/
SUMMARY:Auction at 55 Hickford Street
LOCATION:55 Hickford Street, Reservoir, VIC 3073
URL:https://www.woodards.com.au/property/55-hickford-street-reservoir-3073-1407092/
END:VEVENT
END:VCALENDAR