BEGIN:VCALENDAR
PRODID:-//SoulAndWolf//SilverStripe//EN
VERSION:2.0
BEGIN:VEVENT
DTSTART;TZID=Australia/Melbourne:20251025T153000
DTEND;TZID=Australia/Melbourne:20251025T173000
DESCRIPTION:https://www.woodards.com.au/property/55-hunter-street-richmond-3121-1810078/
SUMMARY:Auction at 55 Hunter Street
LOCATION:55 Hunter Street, Richmond, VIC 3121
URL:https://www.woodards.com.au/property/55-hunter-street-richmond-3121-1810078/
END:VEVENT
END:VCALENDAR