BEGIN:VCALENDAR
PRODID:-//SoulAndWolf//SilverStripe//EN
VERSION:2.0
BEGIN:VEVENT
DTSTART;TZID=Australia/Melbourne:20250823T140000
DTEND;TZID=Australia/Melbourne:20250823T160000
DESCRIPTION:https://www.woodards.com.au/property/56-blossom-drive-greenvale-3059-1741180/
SUMMARY:Auction at 56 Blossom Drive
LOCATION:56 Blossom Drive, Greenvale, VIC 3059
URL:https://www.woodards.com.au/property/56-blossom-drive-greenvale-3059-1741180/
END:VEVENT
END:VCALENDAR