BEGIN:VCALENDAR
PRODID:-//SoulAndWolf//SilverStripe//EN
VERSION:2.0
BEGIN:VEVENT
DTSTART;TZID=Australia/Melbourne:20251206T100000
DTEND;TZID=Australia/Melbourne:20251206T120000
DESCRIPTION:https://www.woodards.com.au/property/56-matilda-road-moorabbin-3189-1829412/
SUMMARY:Auction at 56 Matilda Road
LOCATION:56 Matilda Road, Moorabbin, VIC 3189
URL:https://www.woodards.com.au/property/56-matilda-road-moorabbin-3189-1829412/
END:VEVENT
END:VCALENDAR