BEGIN:VCALENDAR
PRODID:-//SoulAndWolf//SilverStripe//EN
VERSION:2.0
BEGIN:VEVENT
DTSTART;TZID=Australia/Melbourne:20260509T103000
DTEND;TZID=Australia/Melbourne:20260509T123000
DESCRIPTION:https://www.woodards.com.au/property/58-alamein-road-heidelberg-west-3081-1888690/
SUMMARY:Auction at 58 Alamein Road
LOCATION:58 Alamein Road, Heidelberg West, VIC 3081
URL:https://www.woodards.com.au/property/58-alamein-road-heidelberg-west-3081-1888690/
END:VEVENT
END:VCALENDAR