BEGIN:VCALENDAR
PRODID:-//SoulAndWolf//SilverStripe//EN
VERSION:2.0
BEGIN:VEVENT
DTSTART;TZID=Australia/Melbourne:20260426T120000
DTEND;TZID=Australia/Melbourne:20260426T123000
DESCRIPTION:https://www.woodards.com.au/property/58-cardigan-street-st-kilda-east-3183-1889725/
SUMMARY:Inspection at 5/8 Cardigan Street
LOCATION:5/8 Cardigan Street, St Kilda East, VIC 3183
URL:https://www.woodards.com.au/property/58-cardigan-street-st-kilda-east-3183-1889725/
END:VEVENT
END:VCALENDAR