BEGIN:VCALENDAR
PRODID:-//SoulAndWolf//SilverStripe//EN
VERSION:2.0
BEGIN:VEVENT
DTSTART;TZID=Australia/Melbourne:20260426T111500
DTEND;TZID=Australia/Melbourne:20260426T114500
DESCRIPTION:https://www.woodards.com.au/property/58a-ardmillan-road-moonee-ponds-3039-1890809/
SUMMARY:Inspection at 58A Ardmillan Road
LOCATION:58A Ardmillan Road, Moonee Ponds, VIC 3039
URL:https://www.woodards.com.au/property/58a-ardmillan-road-moonee-ponds-3039-1890809/
END:VEVENT
END:VCALENDAR