BEGIN:VCALENDAR
PRODID:-//SoulAndWolf//SilverStripe//EN
VERSION:2.0
BEGIN:VEVENT
DTSTART;TZID=Australia/Melbourne:20260509T110000
DTEND;TZID=Australia/Melbourne:20260509T130000
DESCRIPTION:https://www.woodards.com.au/property/6-203-grange-road-glen-huntly-3163-1889566/
SUMMARY:Auction at 6/203 Grange Road
LOCATION:6/203 Grange Road, Glen Huntly, VIC 3163
URL:https://www.woodards.com.au/property/6-203-grange-road-glen-huntly-3163-1889566/
END:VEVENT
END:VCALENDAR