BEGIN:VCALENDAR
PRODID:-//SoulAndWolf//SilverStripe//EN
VERSION:2.0
BEGIN:VEVENT
DTSTART;TZID=Australia/Melbourne:20260425T143000
DTEND;TZID=Australia/Melbourne:20260425T150000
DESCRIPTION:https://www.woodards.com.au/property/6-23-cohuna-street-brunswick-west-3055-1889862/
SUMMARY:Inspection at 6/23 Cohuna Street
LOCATION:6/23 Cohuna Street, Brunswick West, VIC 3055
URL:https://www.woodards.com.au/property/6-23-cohuna-street-brunswick-west-3055-1889862/
END:VEVENT
END:VCALENDAR