BEGIN:VCALENDAR
PRODID:-//SoulAndWolf//SilverStripe//EN
VERSION:2.0
BEGIN:VEVENT
DTSTART;TZID=Australia/Melbourne:20260425T143000
DTEND;TZID=Australia/Melbourne:20260425T144500
DESCRIPTION:https://www.woodards.com.au/property/6-3-yendon-road-carnegie-3163-1891735/
SUMMARY:Inspection at 6/3 Yendon Road
LOCATION:6/3 Yendon Road, Carnegie, VIC 3163
URL:https://www.woodards.com.au/property/6-3-yendon-road-carnegie-3163-1891735/
END:VEVENT
END:VCALENDAR