BEGIN:VCALENDAR
PRODID:-//SoulAndWolf//SilverStripe//EN
VERSION:2.0
BEGIN:VEVENT
DTSTART;TZID=Australia/Melbourne:20260425T134500
DTEND;TZID=Australia/Melbourne:20260425T140000
DESCRIPTION:https://www.woodards.com.au/property/6-417-419-brunswick-road-brunswick-west-3055-1886302/
SUMMARY:Inspection at 6/417-419 Brunswick Road
LOCATION:6/417-419 Brunswick Road, Brunswick West, VIC 3055
URL:https://www.woodards.com.au/property/6-417-419-brunswick-road-brunswick-west-3055-1886302/
END:VEVENT
END:VCALENDAR