BEGIN:VCALENDAR
PRODID:-//SoulAndWolf//SilverStripe//EN
VERSION:2.0
BEGIN:VEVENT
DTSTART;TZID=Australia/Melbourne:20251004T110000
DTEND;TZID=Australia/Melbourne:20251004T130000
DESCRIPTION:https://www.woodards.com.au/property/6-francesco-street-bentleigh-east-3165-1778796/
SUMMARY:Auction at 6 Francesco Street
LOCATION:6 Francesco Street, Bentleigh East, VIC 3165
URL:https://www.woodards.com.au/property/6-francesco-street-bentleigh-east-3165-1778796/
END:VEVENT
END:VCALENDAR