BEGIN:VCALENDAR
PRODID:-//SoulAndWolf//SilverStripe//EN
VERSION:2.0
BEGIN:VEVENT
DTSTART;TZID=Australia/Melbourne:20241123T110000
DTEND;TZID=Australia/Melbourne:20241123T130000
DESCRIPTION:https://www.woodards.com.au/property/6-mayswood-court-moorabbin-3189-1598489/
SUMMARY:Auction at 6 Mayswood Court
LOCATION:6 Mayswood Court, Moorabbin, VIC 3189
URL:https://www.woodards.com.au/property/6-mayswood-court-moorabbin-3189-1598489/
END:VEVENT
END:VCALENDAR