BEGIN:VCALENDAR
PRODID:-//SoulAndWolf//SilverStripe//EN
VERSION:2.0
BEGIN:VEVENT
DTSTART;TZID=Australia/Melbourne:20260307T103000
DTEND;TZID=Australia/Melbourne:20260307T123000
DESCRIPTION:https://www.woodards.com.au/property/6-oberon-avenue-oakleigh-east-3166-1858441/
SUMMARY:Auction at 6 Oberon Avenue
LOCATION:6 Oberon Avenue, Oakleigh East, VIC 3166
URL:https://www.woodards.com.au/property/6-oberon-avenue-oakleigh-east-3166-1858441/
END:VEVENT
END:VCALENDAR