BEGIN:VCALENDAR
PRODID:-//SoulAndWolf//SilverStripe//EN
VERSION:2.0
BEGIN:VEVENT
DTSTART;TZID=Australia/Melbourne:20241116T123000
DTEND;TZID=Australia/Melbourne:20241116T143000
DESCRIPTION:https://www.woodards.com.au/property/6-quarry-close-niddrie-3042-1594678/
SUMMARY:Auction at 6 Quarry Close
LOCATION:6 Quarry Close, Niddrie, VIC 3042
URL:https://www.woodards.com.au/property/6-quarry-close-niddrie-3042-1594678/
END:VEVENT
END:VCALENDAR