BEGIN:VCALENDAR
PRODID:-//SoulAndWolf//SilverStripe//EN
VERSION:2.0
BEGIN:VEVENT
DTSTART;TZID=Australia/Melbourne:20260425T131000
DTEND;TZID=Australia/Melbourne:20260425T132500
DESCRIPTION:https://www.woodards.com.au/property/6-watchtower-road-coburg-3058-1890430/
SUMMARY:Inspection at 6 Watchtower Road
LOCATION:6 Watchtower Road, Coburg, VIC 3058
URL:https://www.woodards.com.au/property/6-watchtower-road-coburg-3058-1890430/
END:VEVENT
END:VCALENDAR