BEGIN:VCALENDAR
PRODID:-//SoulAndWolf//SilverStripe//EN
VERSION:2.0
BEGIN:VEVENT
DTSTART;TZID=Australia/Melbourne:20260509T110000
DTEND;TZID=Australia/Melbourne:20260509T130000
DESCRIPTION:https://www.woodards.com.au/property/6-wingara-avenue-keilor-east-3033-1887813/
SUMMARY:Auction at 6 Wingara Avenue
LOCATION:6 Wingara Avenue, Keilor East, VIC 3033
URL:https://www.woodards.com.au/property/6-wingara-avenue-keilor-east-3033-1887813/
END:VEVENT
END:VCALENDAR