BEGIN:VCALENDAR
PRODID:-//SoulAndWolf//SilverStripe//EN
VERSION:2.0
BEGIN:VEVENT
DTSTART;TZID=Australia/Melbourne:20241130T100000
DTEND;TZID=Australia/Melbourne:20241130T120000
DESCRIPTION:https://www.woodards.com.au/property/60-and-62-queens-avenue-caulfield-east-3145-1601484/
SUMMARY:Auction at 60 & 62 Queens Avenue
LOCATION:60 & 62 Queens Avenue, Caulfield East, VIC 3145
URL:https://www.woodards.com.au/property/60-and-62-queens-avenue-caulfield-east-3145-1601484/
END:VEVENT
END:VCALENDAR