BEGIN:VCALENDAR
PRODID:-//SoulAndWolf//SilverStripe//EN
VERSION:2.0
BEGIN:VEVENT
DTSTART;TZID=Australia/Melbourne:20260425T130000
DTEND;TZID=Australia/Melbourne:20260425T133000
DESCRIPTION:https://www.woodards.com.au/property/60-michael-street-fitzroy-north-3068-1888328/
SUMMARY:Inspection at 60 Michael Street
LOCATION:60 Michael Street, Fitzroy North, VIC 3068
URL:https://www.woodards.com.au/property/60-michael-street-fitzroy-north-3068-1888328/
END:VEVENT
END:VCALENDAR