BEGIN:VCALENDAR
PRODID:-//SoulAndWolf//SilverStripe//EN
VERSION:2.0
BEGIN:VEVENT
DTSTART;TZID=Australia/Melbourne:20260502T103000
DTEND;TZID=Australia/Melbourne:20260502T110000
DESCRIPTION:https://www.woodards.com.au/property/61-rose-avenue-templestowe-lower-3107-1885388/
SUMMARY:Inspection at 61 Rose Avenue
LOCATION:61 Rose Avenue, Templestowe Lower, VIC 3107
URL:https://www.woodards.com.au/property/61-rose-avenue-templestowe-lower-3107-1885388/
END:VEVENT
END:VCALENDAR