BEGIN:VCALENDAR
PRODID:-//SoulAndWolf//SilverStripe//EN
VERSION:2.0
BEGIN:VEVENT
DTSTART;TZID=Australia/Melbourne:20260425T130000
DTEND;TZID=Australia/Melbourne:20260425T133000
DESCRIPTION:https://www.woodards.com.au/property/63-bulli-street-moorabbin-3189-1889872/
SUMMARY:Inspection at 63 Bulli Street
LOCATION:63 Bulli Street, Moorabbin, VIC 3189
URL:https://www.woodards.com.au/property/63-bulli-street-moorabbin-3189-1889872/
END:VEVENT
END:VCALENDAR