BEGIN:VCALENDAR
PRODID:-//SoulAndWolf//SilverStripe//EN
VERSION:2.0
BEGIN:VEVENT
DTSTART;TZID=Australia/Melbourne:20260425T140000
DTEND;TZID=Australia/Melbourne:20260425T143000
DESCRIPTION:https://www.woodards.com.au/property/66-337-station-street-thornbury-3071-1862587/
SUMMARY:Inspection at 66/337 Station Street
LOCATION:66/337 Station Street, Thornbury, VIC 3071
URL:https://www.woodards.com.au/property/66-337-station-street-thornbury-3071-1862587/
END:VEVENT
END:VCALENDAR