BEGIN:VCALENDAR
PRODID:-//SoulAndWolf//SilverStripe//EN
VERSION:2.0
BEGIN:VEVENT
DTSTART;TZID=Australia/Melbourne:20260502T110000
DTEND;TZID=Australia/Melbourne:20260502T113000
DESCRIPTION:https://www.woodards.com.au/property/68-dover-street-flemington-3031-1858192/
SUMMARY:Inspection at 68 Dover Street
LOCATION:68 Dover Street, Flemington, VIC 3031
URL:https://www.woodards.com.au/property/68-dover-street-flemington-3031-1858192/
END:VEVENT
END:VCALENDAR