BEGIN:VCALENDAR
PRODID:-//SoulAndWolf//SilverStripe//EN
VERSION:2.0
BEGIN:VEVENT
DTSTART;TZID=Australia/Melbourne:20260228T120000
DTEND;TZID=Australia/Melbourne:20260228T140000
DESCRIPTION:https://www.woodards.com.au/property/7-128-murrumbeena-road-murrumbeena-3163-1857032/
SUMMARY:Auction at 7/128 Murrumbeena Road
LOCATION:7/128 Murrumbeena Road, Murrumbeena, VIC 3163
URL:https://www.woodards.com.au/property/7-128-murrumbeena-road-murrumbeena-3163-1857032/
END:VEVENT
END:VCALENDAR