BEGIN:VCALENDAR
PRODID:-//SoulAndWolf//SilverStripe//EN
VERSION:2.0
BEGIN:VEVENT
DTSTART;TZID=Australia/Melbourne:20260221T120000
DTEND;TZID=Australia/Melbourne:20260221T140000
DESCRIPTION:https://www.woodards.com.au/property/7-60-ulupna-road-ormond-3204-1853851/
SUMMARY:Auction at 7/60 Ulupna Road
LOCATION:7/60 Ulupna Road, Ormond, VIC 3204
URL:https://www.woodards.com.au/property/7-60-ulupna-road-ormond-3204-1853851/
END:VEVENT
END:VCALENDAR