BEGIN:VCALENDAR
PRODID:-//SoulAndWolf//SilverStripe//EN
VERSION:2.0
BEGIN:VEVENT
DTSTART;TZID=Australia/Melbourne:20260429T140000
DTEND;TZID=Australia/Melbourne:20260429T143000
DESCRIPTION:https://www.woodards.com.au/property/7-7-11-darcy-street-doncaster-3108-1887504/
SUMMARY:Inspection at 7/7-11 Darcy Street
LOCATION:7/7-11 Darcy Street, Doncaster, VIC 3108
URL:https://www.woodards.com.au/property/7-7-11-darcy-street-doncaster-3108-1887504/
END:VEVENT
END:VCALENDAR