BEGIN:VCALENDAR
PRODID:-//SoulAndWolf//SilverStripe//EN
VERSION:2.0
BEGIN:VEVENT
DTSTART;TZID=Australia/Melbourne:20260425T150000
DTEND;TZID=Australia/Melbourne:20260425T153000
DESCRIPTION:https://www.woodards.com.au/property/7-amery-avenue-blackburn-3130-1891032/
SUMMARY:Inspection at 7 Amery Avenue
LOCATION:7 Amery Avenue, Blackburn, VIC 3130
URL:https://www.woodards.com.au/property/7-amery-avenue-blackburn-3130-1891032/
END:VEVENT
END:VCALENDAR