BEGIN:VCALENDAR
PRODID:-//SoulAndWolf//SilverStripe//EN
VERSION:2.0
BEGIN:VEVENT
DTSTART;TZID=Australia/Melbourne:20251115T113000
DTEND;TZID=Australia/Melbourne:20251115T133000
DESCRIPTION:https://www.woodards.com.au/property/7-charles-street-brighton-east-3187-1820718/
SUMMARY:Auction at 7 Charles Street
LOCATION:7 Charles Street, Brighton East, VIC 3187
URL:https://www.woodards.com.au/property/7-charles-street-brighton-east-3187-1820718/
END:VEVENT
END:VCALENDAR