BEGIN:VCALENDAR
PRODID:-//SoulAndWolf//SilverStripe//EN
VERSION:2.0
BEGIN:VEVENT
DTSTART;TZID=Australia/Melbourne:20230715T130000
DTEND;TZID=Australia/Melbourne:20230715T150000
DESCRIPTION:https://www.woodards.com.au/property/7-davies-street-preston-3072-1393253/
SUMMARY:Auction at 7 Davies Street
LOCATION:7 Davies Street, Preston, VIC 3072
URL:https://www.woodards.com.au/property/7-davies-street-preston-3072-1393253/
END:VEVENT
END:VCALENDAR