BEGIN:VCALENDAR
PRODID:-//SoulAndWolf//SilverStripe//EN
VERSION:2.0
BEGIN:VEVENT
DTSTART;TZID=Australia/Melbourne:20260423T173000
DTEND;TZID=Australia/Melbourne:20260423T180000
DESCRIPTION:https://www.woodards.com.au/property/7-hanrahan-street-gisborne-3437-1890701/
SUMMARY:Inspection at 7 Hanrahan Street
LOCATION:7 Hanrahan Street, Gisborne, VIC 3437
URL:https://www.woodards.com.au/property/7-hanrahan-street-gisborne-3437-1890701/
END:VEVENT
END:VCALENDAR