BEGIN:VCALENDAR
PRODID:-//SoulAndWolf//SilverStripe//EN
VERSION:2.0
BEGIN:VEVENT
DTSTART;TZID=Australia/Melbourne:20260502T123000
DTEND;TZID=Australia/Melbourne:20260502T143000
DESCRIPTION:https://www.woodards.com.au/property/7-tarwin-court-keilor-3036-1885167/
SUMMARY:Auction at 7 Tarwin Court
LOCATION:7 Tarwin Court, Keilor, VIC 3036
URL:https://www.woodards.com.au/property/7-tarwin-court-keilor-3036-1885167/
END:VEVENT
END:VCALENDAR