BEGIN:VCALENDAR
PRODID:-//SoulAndWolf//SilverStripe//EN
VERSION:2.0
BEGIN:VEVENT
DTSTART;TZID=Australia/Melbourne:20260301T120000
DTEND;TZID=Australia/Melbourne:20260301T140000
DESCRIPTION:https://www.woodards.com.au/property/7-urandaline-grove-caulfield-3162-1857025/
SUMMARY:Auction at 7 Urandaline Grove
LOCATION:7 Urandaline Grove, Caulfield, VIC 3162
URL:https://www.woodards.com.au/property/7-urandaline-grove-caulfield-3162-1857025/
END:VEVENT
END:VCALENDAR