BEGIN:VCALENDAR
PRODID:-//SoulAndWolf//SilverStripe//EN
VERSION:2.0
BEGIN:VEVENT
DTSTART;TZID=Australia/Melbourne:20250821T130000
DTEND;TZID=Australia/Melbourne:20250821T150000
DESCRIPTION:https://www.woodards.com.au/property/700a-old-calder-higway-highway-keilor-3036-1738349/
SUMMARY:Auction at 700A Old Calder Higway Highway
LOCATION:700A Old Calder Higway Highway, Keilor, VIC 3036
URL:https://www.woodards.com.au/property/700a-old-calder-higway-highway-keilor-3036-1738349/
END:VEVENT
END:VCALENDAR