BEGIN:VCALENDAR
PRODID:-//SoulAndWolf//SilverStripe//EN
VERSION:2.0
BEGIN:VEVENT
DTSTART;TZID=Australia/Melbourne:20260425T141500
DTEND;TZID=Australia/Melbourne:20260425T144500
DESCRIPTION:https://www.woodards.com.au/property/71-88-park-street-south-melbourne-3205-1891884/
SUMMARY:Inspection at 71/88 Park Street
LOCATION:71/88 Park Street, South Melbourne, VIC 3205
URL:https://www.woodards.com.au/property/71-88-park-street-south-melbourne-3205-1891884/
END:VEVENT
END:VCALENDAR